BEGIN:VCALENDAR
VERSION:2.0
PRODID:-//kirjastotfi/procal//NONSGML v1.0//EN
BEGIN:VEVENT
DTSTART:20200313T090000
DTEND:20200313T151515
SUMMARY:Tarinatornado
DESCRIPTION:<p>Tarinatornado tarjoaa runsaan päivän lasten ja nuorten kirjojen ja kirjallisten tapahtumien esittelyjen parissa. Koulutuspäivä pidetään Raision kirjaston Martinsalissa perjantaina 13.3. klo 9.00 – 15.15 ja päivää voi seurata myös etänä.</p>

<p>Turun AKE-alueen lasten ja nuorten kirjastotyön ryhmä VarSat on suunnitellut koulutuspäivän, jossa puhutaan paljon perheiden lukemisesta ja kirjaston ja varhaiskasvatuksen yhteistyöstä. Saamme myös kuulla Reetta Niemelän kirjoista, myös tulevasta uutuuskirjasta! Nuortenkirjastotyöhön saa eväitä päivän manga-aiheista.</p>

<p>Linkki päivän ohjelmaan alla:</p>

<p><a href="https://ls-kirjastot.fi/wp-content/uploads/2020/02/Tarinatornado_ohjelma2020.pdf">Tarinatornado 2020</a></p>

<p>Martinsalin ulkopuolella esittäytyvät Lastenkirjainstituutti sekä Turun sarjakuvaseura. Väliaikoina salissa pyörii diaesittelyjä Satakunnan ja Varsinais-Suomen perheiden lukuharrastusta tukevista hankkeista.</p>

<p>Ilmoittaudu koulutuspäivään viimeistään ma 9.3. tästä linkistä: <a href="https://www.lyyti.in/Tarinatornado_7694">https://www.lyyti.in/Tarinatornado_7694</a></p>

<p>Koulutuspäivästä on etälähetys klo 9.30 – 15.15 osoitteessa<br />
<a href="http://kirjasto.adobeconnect.com/Turku">kirjasto.adobeconnect.com/Turku</a> Etänä voi osallistua joko Porin kaupunginkirjaston yhteiskatsomossa (kahvitarjoilu) tai omalla työpisteellä. Myös etäosallistujien tulee ilmoittautua.</p>

<p>Koulutus on Turun kaupunginkirjaston alueelliseen kehittämistehtävään kuuluvaa täydennyskoulutusta. Koulutus on osallistujille maksuton. Osallistujat vastaavat itse matkustus-ja ruokailukustannuksistaan. Koulutus on kaikille avoin, mutta mikäli ilmoittautuneita on enemmän kuin paikkoja, ovat Satakunnan ja Varsinais-Suomen kirjastoammattilaiset etusijalla koulutukseen.</p>

<p>Lisätietoja koulutuksesta antaa Leena Pylkkö, leena.pylkko@turku.fi</p>

<p>Tervetuloa Tarinatornadon tuuliin!</p>

LOCATION:Raision kirjasto, Eeronkuja 2
END:VEVENT
END:VCALENDAR