BEGIN:VCALENDAR
VERSION:2.0
PRODID:-//kirjastotfi/procal//NONSGML v1.0//EN
BEGIN:VEVENT
DTSTART:20200416T100000
DTEND:20200416T110000
SUMMARY:KEHU-kahvit: LANU: Lisää ruutuaikaa!
DESCRIPTION:<p>Tervetuloa jakamaan ideoita ja vinkkejä kollegoiden kesken Teamsissä! Järjestämme etäkahveja Teamsissä tiistaisin ja torstaisin kello 10–11. Klikkaa itsesi mukaan alla olevasta linkistä.</p>

<p>HUOM. Käytä aina tuoretta eli alla olevaa linkkiä. Jo pidettyjen kahvien linkit eivät enää toimi.&nbsp;</p>

<p><strong><a href="https://teams.microsoft.com/l/meetup-join/19%3a206a2cc9e47e4d4dae219f00d868a756%40thread.tacv2/1586262677998?context=%7b%22Tid%22%3a%22ca8dd34c-ed0b-4236-92cb-5644bfcfaed6%22%2c%22Oid%22%3a%222b34ca0c-f4b3-4209-a207-8f2434aeb7c0%22%7d">&gt; LANU: Lisää ruutuaikaa</a></strong></p>

<p>&nbsp;</p>

<p><strong>Tulevien KEHU-kahvien aiheet</strong></p>

<p>Ti 21.4. Sanastolla on sanottavaa tekijänoikeuksista<br />
To 24.4. Ett ögonblick! Asiakaspalveluruotsia</p>

<p>&nbsp;</p>

<p>AKE Porvoon etäkahvien nimi on nyt KEHU-kahvit. KEHU tulee sanoista KEHittämistehtävä Utvecklingsuppdrag.</p>

LOCATION:Teams
END:VEVENT
END:VCALENDAR