BEGIN:VCALENDAR
VERSION:2.0
PRODID:-//kirjastotfi/procal//NONSGML v1.0//EN
BEGIN:VEVENT
DTSTART:20200831T093000
DTEND:20200831T160000
SUMMARY:De nyländska bibliotekens sommardag
DESCRIPTION:<p>Välkommen till Borgå och träffa dina kollegor en behaglig sensommardag, som är menad för alla som är anställda i allmänna bibliotek i Nyland.&nbsp;<br />
Som teman under dagen har vi projektet om bibliotekens miljömedvetande samt bibliotekens äldsta och yngsta kundgrupper: seniorer samt barn och unga. På sommardagen har vi också som mål att bilda nätverk för dem som är intresserade av miljöåtgärder och för dem som vill utveckla seniorarbetet på bibliotek.&nbsp;</p>

<p><strong>Obs. du kan delta i sommardag också på distans. Möteslänken ska delas via e-post senare.</strong></p>

<p><strong>Program</strong></p>

<p>Morgonkaffe serveras from. 9.30</p>

<p>10.00 Öppnande av mötet, Malin Hollmén, Borgå stadsbibliotek</p>

<p>10.15 Hälsningar från YKN, Annastiina Louhisalmi, Tusby kommunbibliotek</p>

<p>10.30 Kort om Bibliotekens miljömedvetande till 2020-talet -projektet, Leila Sonkkanen, Helsingfors stadsbibliotek</p>

<p>11.15 Seniorverksamhet i biblioteken, Jaakko Tiinanen, Esbo stadsbibliotek</p>

<p>12-13 Lunch</p>

<p>13.00 Hälsningar från ERTE (specialuppdraget att främja barns och ungas läsande och läskunnighet), Mervi Heikkilä, Seinäjoki stadsbibliotek</p>

<p>14.00 Kaffe</p>

<p>14.15 Diskussion i grupper:<br />
1) Ska vi starta en Ekoagenter -grupp i Nyland?<br />
2) Nätverk för gulålderstitaner?<br />
3) Hur kan ERTE stödja oss?</p>

<p>15.45-16.00 Sammanfattning</p>

<p>&nbsp;</p>

<p><strong>Anmälningar</strong></p>

<p>Anmälningar via länken nedan senast den 21 augusti:</p>

<p>https://link.webropolsurveys.com/S/69725A67CDB55184<br />
&nbsp;</p>

LOCATION:Café Cabriole, Biskopsgatan 30, 06100 Borgå
END:VEVENT
END:VCALENDAR