BEGIN:VCALENDAR
VERSION:2.0
PRODID:-//kirjastotfi/procal//NONSGML v1.0//EN
BEGIN:VEVENT
DTSTART:20200827T120000
DTEND:20200827T140000
SUMMARY:Vastuullisen kirjastotoiminnan työpaja
DESCRIPTION:<p>Minkälaista on vastuullinen kirjastotoiminta?</p>

<p>Kuinka hiilikädenjäljen ja –jalanjäljen mittaamista voisi hyödyntää kirjastoissa?</p>

<p>Työpajassa käydään läpi erityisesti kädenjäljen mittaamista. Kokonaiskädenjälki muodostuu laadullisesta ja määrällisestä osasta. Mitattavat vaikutukset, hiilijalanjälki yms. ovat määrällistä, ja sosiaaliset ja hyvinvointivaikutukset enemmän laadullista. Näistä yhteensä muodostuu kirjastotoiminnan kokonaiskädenjälki.</p>

<p><strong>Huom.</strong> Työpajaan voi osallistua myös etäyhteydellä. Osallistumislinkki lähetetään ilmoittautuneille myöhemmin sähköpostitse.</p>

<p>&nbsp;</p>

<p><strong>Ohjelma</strong><br />
klo 12-14 työpaja</p>

<p><strong>Kouluttaja</strong><br />
Elina Levula on asiantuntija Positive Impactissa, joka auttaa organisaatioita edistämään kestävää kehitystä, vastuullisuutta ja hiilineutraaliutta.</p>

<p><strong>Kenelle?</strong><br />
Koulutus on tarkoitettu yleisten kirjastojen henkilökunnalle Uudellamaalla. Työpaja on osa Kirjastofillarointi-tapahtumaa, mutta siihen voivat osallistua muutkin kuin fillaroijat.</p>

<p><br />
<strong>Ilmoittaudu</strong><br />
Ilmoittaudu työpajaan viimeistään 21. elokuuta osoitteessa</p>

<p>https://link.webropolsurveys.com/S/F1CEC5B855B054E7</p>

LOCATION:Lohjan pääkirjasto, Karstuntie 3, 08100 Lohja
END:VEVENT
END:VCALENDAR