BEGIN:VCALENDAR
VERSION:2.0
PRODID:-//kirjastotfi/procal//NONSGML v1.0//EN
BEGIN:VEVENT
DTSTART:20201110T095000
DTEND:20201110T141500
SUMMARY:PiKen LaNu-foorumi ti 10.11. – Valopäitä verkossa, lukuintoa linjoilla ja Juha T. Hakalan vinkit
DESCRIPTION:<p>PiKen LaNu-foorumi järjestetään Teams-etäyhteydellä tiistaina 10.11. Foorumin teemoja on kaksi. Kuulemme poikkeusaikana kehittyneistä hyvistä lasten ja nuorten kirjastotyön etäkonsepteista Oulusta, Helsingistä, Espoosta ja Tampereelta. Lisäksi <a href="https://www.suomentietokirjailijat.fi/medialle/asiantuntijahaku/juha-t.-hakala.html">kasvatustieteiljä ja filosofi Juha T. Hakala</a> puhuu poikkeuksellisen ajan vaikutuksista työn tekemiseen, yksilöön ja jaksamiseen otsikolla Maailma muuttui, muutuinko minä? Avaimia (työ)hyvinvointiin poikkeustilanteessa.</p>

<p>Tilaisuus on suunnattu ensisijaisesti AKE Tampere (Pirkanmaa ja Keski-Suomi) -henkilöstölle sekä kaikille lanu-työn parissa työskenteleville kirjastolaisille. Tilaisuuden juontaa <strong>Niina Salmenkangas</strong>, chat-moderaattorina toimii <strong>Hanna-Leena Majuri Jantunen</strong>.</p>

<p><a href="https://elomake.tampere.fi/lomakkeet/21939/lomakkeet.html">Ilmoittaudu tilaisuuteen 9.11. mennessä täällä.</a></p>

<p><strong>PiKen LaNu-foorumi<br />
Ti 10.11.<br />
Klo 09.50 – 14.15<br />
Teams</strong></p>

<h2>Ohjelma</h2>

<p>Klo 09.50 – 10.00 Tervetuloa PiKen LaNu-foorumiin / Niina Salmenkangas, palvelupäällikkö &amp; PiKen LaNu-tiimin pj., Tampereen kaupunginkirjasto</p>

<p>Klo 10.00 – 10.15 Seinäjoen erten kuulumiset / Mervi Heikkilä, kehityspäällikkö, Seinäjoen kaupunginkirjasto</p>

<p>Klo 10.15 – 10.30 Taitavia kirjastokettuja ja valopäitä verkossa – kouluyhteistyötä etänä Oulussa / Elina Kauppila, vastaava informaatikko &amp; Mervi Vaara, palvelupäällikkö, Oulun kaupunginkirjasto</p>

<p>Klo 10.30 – 10.45 Virtuaaliset kirjastovierailut, ekaluokkalaisstartit netissä ja Kirjastolainen linjoilla –palvelu / Henriika Tulivirta, erikoiskirjastovirkailija, Helsingin kaupunginkirjasto</p>

<p>Klo 10.45 – 11.00 Tauko</p>

<p>Klo 11.00 – 11.15 ”Me otetaan tämä etänä!” – Espoon kirjastojen kokemuksia etäkevään ja koronasyksyn kouluvierailuista / Marjukka Peltonen, erikoiskirjastonhoitaja, Espoon kaupunginkirjasto</p>

<p>Klo 11.15 – 11.30 Pelillistä oppimista ja lukuintoa etänä – Kouluyhteistyön konseptit kehittyvät Tampereella / Mervi Hietanen, pedagoginen informaatikko ja Elisa Marttinen, kirjastonhoitaja Tampereen kaupunginkirjasto</p>

<p>Klo 11.30 – 12.00 Lounastauko</p>

<p>Klo 12.00 – 14.00 Maailma muuttui, muutuinko minä? Avaimia (työ)hyvinvointiin poikkeustilanteessa / Juha T. Hakala, kasvatustieteilijä &amp; filosofi</p>

<p>klo 14.00 – 14.15 Keskustelu ja yhteenveto</p>

<p><em>Tilaisuuden järjestää Tampereen kaupunginkirjasto. Tampereen kaupunginkirjastolla on alueellinen kehittämistehtävä Pirkanmaan ja Keski-Suomen alueella. Kuvat ja tunnelmat somessa, käytä tunnistetta: #akepike.</em></p>

<h2>Heräsikö kysymys? Ota yhteyttä!</h2>

<p>Koordinaattori Jarkko Rikkilä<br />
040 800 7828 / jarkko.rikkila@tampere.fi</p>

LOCATION:Teams
END:VEVENT
END:VCALENDAR