BEGIN:VCALENDAR
VERSION:2.0
PRODID:-//kirjastotfi/procal//NONSGML v1.0//EN
BEGIN:VEVENT
DTSTART:20201110T123000
DTEND:20201110T144500
SUMMARY:Kuvia tarinoista, tarinoita kuvista -koulutus
DESCRIPTION:<p>Kuvakirjoihin, niiden tarinoihin ja kuviin, liittyvä koulutus on suunnattu erityisesti kulttuuri- ja kasvatusalan ammattilaisille, jotka tekevät työtä pienten lasten parissa. Koulutus on kuitenkin avoin kaikille kiinnostuneille. Koulutuksen järjestää Porin kaupunginkirjaston Tarinat tavaksi -hanke.</p>

<p><strong>Koulutus on maksuton. Ilmoittautua voi 6.11.klo 18 saakka.</strong></p>

<p><strong>Ohjelma:</strong></p>

<p>12:30–14 Mila Teräs ja Sanna Pelliccioni: Eräänä päivänä nousin lentävään mattoon – miten syntyy kuvakirja?</p>

<p>14-14:45 Salla Wahlman: Kuvituksen rooli lastenkirjoissa ja kuvallisia kirjavinkkejä</p>

<p>&nbsp;</p>

<p><strong>Mila Teräs</strong> on monipuolinen kirjailija, jonka tuotantoon kuuluu yli 20 teosta kuvakirjoista aikuistenromaaneihin. Sanan ja kuvan yhdistämisen mahdollisuudet kiehtovat häntä erityisesti, ja hän on tehnyt useita kuvakirjoja eri kuvittajien kanssa.</p>

<p><strong>Sanna Pelliccioni</strong> on monipuolinen kuvittaja, lastenkirjailija ja graafinen suunnittelija. &nbsp;&nbsp;&nbsp; Pelliccioni tekee omaa Onni-poika-kirjasarjaa ja kuvittaa mm. Suomen supernaisia -kirjasarjaa. Hän tekee yhteistyötä useiden kirjailijoiden kanssa. Pelliccionin mielestä ei ole&nbsp;aihetta, josta ei voisi tehdä kuvakirjaa.&nbsp;</p>

<p><strong>Salla Wahlman</strong> on Porin kaupunginkirjaston Tarinat tavaksi -hankkeen projektityöntekijä, joka rakastaa kuvakirjoja ja vinkkaa niitä myös vapaa-ajallaan.</p>

<p>&nbsp;</p>

LOCATION:Teams-etäkoulutus
END:VEVENT
END:VCALENDAR