BEGIN:VCALENDAR
VERSION:2.0
PRODID:-//kirjastotfi/procal//NONSGML v1.0//EN
BEGIN:VEVENT
DTSTART:20201112T120000
DTEND:20201112T150000
SUMMARY:Vauvalorutuokiot: miksi ja miten? Teoriaa ja käytäntöä lorutuokioiden tueksi
DESCRIPTION:<p>Koulutus tarjoaa sekä teoriaa ja että käytännön tekemistä lorutuokioiden tueksi. Loruttelutuokion vetää aina yhtä innostava Marjo Paavola. Koulutuksesta on hyötyä sekä niille, jotka ovat jo pitäneet vauvalorutuokioita, että vasta-alkajille. Tämä koulutus on hyvä alkusysäys omien tuokioiden käynnistämiselle!</p>

<p><strong>torstai 12.11. 2020 klo 12-15.</strong></p>

<p><strong>Paikka: Turun kaupunginkirjaston Studio sekä etälähetys Teamsin kautta</strong></p>

<p><strong>Ohjelma</strong></p>

<p>12.00 – 12.10 <strong>Kirjasto on kirjaneuvola -hankkeen taustoja</strong><br />
<em>Satu Aalto, Turun kaupunginkirjasto</em></p>

<p>12.10 – 12.45 <strong>Yhdessä lukeminen ja vauvojen kognitiivinen kehitys</strong><br />
<em>Leena Pylkkö, Turun kaupunginkirjasto</em></p>

<p>12.45 – 13.50 <strong>Mitä vauvalorutuokiot ovat?</strong><br />
<em>Marjo Paavola</em></p>

<p><em>Huom! Oma pehmovauva/ nalle tmv. mukaan, </em><em>saat enemmän irti Marjon esimerkeistä! </em></p>

<p>13.50 – 14.00 <em>tauko</em><br />
<br />
14.00 – 14.30 <strong>Työskentely pienryhmissä</strong><br />
<br />
14.30 – 15.00 <strong>Ryhmätöiden purku</strong></p>

<p>&nbsp;</p>

<p><strong>Ilmoittaudu </strong><a href="https://www.lyyti.fi/reg/Kirjasto_on_kirjaneuvola_4951"><strong>tästä</strong></a><br />
&nbsp;</p>

<p><strong>Lisätietoja Marjo Paavolasta, ks. </strong>http://www.sagoskogen.fi/<br />
&nbsp;</p>

LOCATION:Turun pääkirjasto ja etälähetys
END:VEVENT
END:VCALENDAR