BEGIN:VCALENDAR
VERSION:2.0
PRODID:-//kirjastotfi/procal//NONSGML v1.0//EN
BEGIN:VEVENT
DTSTART:20201130T120000
DTEND:20201130T140000
SUMMARY:Lisätty ja virtuaalitodellisuus kirjastotyössä
DESCRIPTION:<p><span><span><span>Ma 30.11. klo 12-14 järjestettävässä verkkokoulutuksessa tutustutaan lisättyyn (AR) ja virtuaalitodellisuuteen (VR) ilmiöinä sekä siihen, miten niitä voi hyödyntää esimerkiksi kirjastotyössä. Kouluttajana toimii digipedagoginen asiantuntija <strong><a href="https://www.matleenalaakso.fi/p/kuka-olen.html">Matleena Laakso</a></strong>.</span></span></span></p>

<p><span><span><span>Tutustumme laajaan valikoimaan verkon pääosin maksuttomia sovelluksia ja kokeilemme itse muutamia. Virtuaalitodellisuutta tarkastelemme erityisesti maksuttomien sovellusten kautta, jotka toimivat kännykkäsovelluksilla ja edullisilla pahvilaseilla.</span></span></span></p>

<p><span><span><span>Tutustu maksuttomiin sovelluksiin <a href="https://www.matleenalaakso.fi/p/sovelluksia.html">Matleenan blogissa</a> ja lataa vähintään kaksi sovelluksista puhelimeesi tai tablettiisi ennen etäkoulutusta.</span></span></span></p>

<p>Koulutusalustana käytämme Microsoft Teamsia. Osallistumislinkki lähetetään ilmoittautuneille lähempänä tapahtumaa.</p>

<p><a href="https://my.surveypal.com/Nuorten-webinaarikokonaisuus">Ilmoittaudu koulutukseen viimeistään to 26.11.!</a></p>

LOCATION:
END:VEVENT
END:VCALENDAR