BEGIN:VCALENDAR
VERSION:2.0
PRODID:-//kirjastotfi/procal//NONSGML v1.0//EN
BEGIN:VEVENT
DTSTART:20210212T090000
DTEND:20210212T153000
SUMMARY:Lasten kirjareppu
DESCRIPTION:<p>Pääkaupunkiseudun Helmet-kirjastojen lastenkirjastotyön ammattilaiset esittelevät Vantaan kaupunginkirjaston johdolla vuonna 2020 ilmestyneet lastenkirjallisuuden helmet.<br />
Tervetuloa kuulemaan mitkä olivat viime vuoden parhaat uudet tulokkaat, pelejä ja sarjakuvia unohtamatta!</p>

<p>Ohjelma:</p>

<p>9.00 Aloitus (Pauliina Eriksson)</p>

<p>9.05 Tietokirjat (Helena Perttilä)</p>

<p>9.35 Sadut ja runot (Anneli Outinen)</p>

<p>10.05 Pelit ja sarjakuvat (Karkki Havaste ja Krista Kettunen)</p>

<p>10.45 Viitoskuutosten kirjat (Annu Peltoniemi ja Pauliina Eriksson)</p>

<p>11.30 Englanninkieliset kirjat (Kaisa Salomaa ja Pete Jauhiainen)</p>

<p>12.00-12.45 Lounastauko</p>

<p>12.45 Ruotsinkieliset kirjat (Julia Wickholm)</p>

<p>13.15 Kolmosnelosten kirjat (Helena Perttilä)</p>

<p>14.00 Ykköskakkosten kirjat (Toni Kettinen)</p>

<p>14.40 Kuvakirjat (Kaisa Salomaa ja Pete Jauhiainen)</p>

<p>15.20 Lopetus (Pauliina Eriksson)</p>

<p>Koulutus suoralähetetään Youtuben kautta eikä siihen tarvitse erikseen ilmoittautua.<br />
<br />
Koulutusta pääsee seuraamaan Vantaan kaupunginkirjaston Kirjarepun tapahtumasivulta osoitteesta: <a href="https://eur01.safelinks.protection.outlook.com/?url=http%3A%2F%2Fkirjasto.one%2Fkirjalista%2Flasten%2520kirjareppu%25202020&amp;data=02%7C01%7Cteija.tuomi%40vantaa.fi%7C96f6cd56a8814b889a2f08d86eb085df%7Cdad5d62c98304db09c1589befcc5cf3e%7C0%7C0%7C637381051726454507&amp;sdata=Nkr8bF6OWBWi7Nqe2sS3EuuGxCPdtCmRyu3X4VQJbAo%3D&amp;reserved=0">http://kirjasto.one/kirjalista/lasten kirjareppu 2020</a></p>

<p>Esitykset ovat katsottavissa kaksi viikkoa tapahtuman jälkeen.</p>

LOCATION:
END:VEVENT
END:VCALENDAR