BEGIN:VCALENDAR
VERSION:2.0
PRODID:-//kirjastotfi/procal//NONSGML v1.0//EN
BEGIN:VEVENT
DTSTART:20210203T130000
DTEND:20210203T140000
SUMMARY:KEHU-kahvit: Mediakasvatusseuran Digivoimaa ja muutakin
DESCRIPTION:<p>Vuoden ensimmäisten KEHU-kahvien aiheena on mediakasvatus.</p>

<p><a href="https://mediakasvatus.fi/">Mediakasvatusseura</a> edistää ja kehittää mediakasvatusta Suomessa. Seura on monessa mukana. Se kouluttaa eri kohderyhmiä, tiedottaa ja vaikuttaa. Lisäksi se tuottaa mediakasvatusmateriaaleja eri-ikäisille kohderyhmille.</p>

<p>Joulukuussa käynnistyi Digivoimaa-verkkokurssikokonaisuus, johon liittyy lisäksi organisaatioiden toiminnan ja viestinnän suunnittelua tukeva Digivoimaa-työkalupaketti.&nbsp;</p>

<p>Mediakasvatusseuran suunnittelija <strong>Ninni Ahonen</strong> kertoo KEHU-kahveilla Digivoimasta ja seuran muista mediakasvatusmateriaaleista. Tervetuloa Ninni, tervetuloa kaikki!</p>

<p>Klikkaa itsesi mukaan KEHU-kahveille <a href="https://teams.microsoft.com/l/meetup-join/19%3ameeting_ZWM4YmMyYmEtNTE1Yy00YWUyLWFlNjMtN2FmZmEyYTZhZGQ4%40thread.v2/0?context=%7b%22Tid%22%3a%22ca8dd34c-ed0b-4236-92cb-5644bfcfaed6%22%2c%22Oid%22%3a%222b34ca0c-f4b3-4209-a207-8f2434aeb7c0%22%7d">tästä linkistä</a>.</p>

LOCATION:Teams
END:VEVENT
END:VCALENDAR