BEGIN:VCALENDAR
VERSION:2.0
PRODID:-//kirjastotfi/procal//NONSGML v1.0//EN
BEGIN:VEVENT
DTSTART:20210315T093000
DTEND:20210315T110000
SUMMARY:Erten etävinkit I
DESCRIPTION:<p>Tule poimimaan parhaat etäilyvinkit ”Erten etävinkit&nbsp;I” –koulutuksesta!&nbsp;Luvassa aamupäivän täydeltä hyödyllistä tietoa ja mielenkiintoisia ideoita. Maksuttomaan koulutukseen mahtuu 290 ensimmäiseksi ilmoittautunutta. Ilmoittautumiset ja lisätiedot <a href="https://www.kirjastot.fi/lanu/ajankohtaista/muista?language_content_entity=fi">Erten kotisivuilla.</a></p>

LOCATION:Microsoft Teams
END:VEVENT
END:VCALENDAR