BEGIN:VCALENDAR
VERSION:2.0
PRODID:-//kirjastotfi/procal//NONSGML v1.0//EN
BEGIN:VEVENT
DTSTART:20210423T090000
DTEND:20210423T150000
SUMMARY:Sanataidetta, digipedaa ja varmuutta esiintymiseen - PiKen lanu-foorumi
DESCRIPTION:<h2><strong>Lohtua ja inspiraatiota – sitä on jälleen tarjolla!</strong></h2>

<p>PiKen lanu-foorumi kerää jälleen lasten ja nuorten kirjastotyötä tekeviä yhteen huhtikuussa. Päivän ohjelma on rakennettu yhteistyöllä ratkaisukahveillamme nousseista painopisteistä PiKen lanu-tiimin voimin. Lanu-foorumin puheenvuoroissa kuullaan tietoiskuja Seinäjoen erteltä, uudesta lastenkirjastotyön sisältöpakista sekä Lukulux-verkkokäsikirjasta. Aikaa käytetään lisäksi hyvinvointikirjoittamisen ja kirjallisuusterapeuttisten menetelmien opetteluun sekä digipedagogisten välineiden hyödyntämiseen sisältöjen avaamisessa. Päivän päättää puheenvuoro esiintymistaidoista ja osallistujat saavat myös sopivat tehtävät mukanaan kannettaviksi.</p>

<blockquote>
<p>Aika täydellinen lanu-päivä siis, vai mitä?</p>
</blockquote>

<h2>Ilmoittautuminen</h2>

<p>Ilmoittaudu tilaisuuteen 20.4. mennessä täällä.</p>

<p>Tilaisuuteen otetaan mukaan 100 työntekijää. Etusijalla ovat Pirkanmaan ja Keski-Suomen kirjastolaiset.</p>

<h2>Tuleeko tallenne?</h2>

<p>Tämä PiKe-tilaisuus toteutuu ainoastaan suoralähetyksenä. Osasta esityksistä saadaan esitysten diat jaettavaksi osallistujille.</p>

<h2>Ohjelma</h2>

<p>Klo 09.00 – 09.15 Tervetuloa PiKen lanu-foorumiin</p>

<p>Klo 09.15 – 10.00 Kolme tietoiskua!</p>

<p>Klo 09.15 – 09.30 Tietoisku 1. Seinäjoen erten ajankohtaiset kuulumiset / Mervi Heikkilä, kehityspäällikkö, Seinäjoen kaupunginkirjasto</p>

<p>Klo 09.30 – 09.45 Tietoisku 2. Lastenkirjastotyön sisältöpakki Liboppissa / Mervi Hietanen, pedagoginen informaatikko, Tampereen kaupunginkirjasto</p>

<p>Klo 09.45 – 10.00 Tietoisku 3. Lukulux-verkkokäsikirja tukee lukuohjausta ja lukemisen edistämistä / Simo Nieminen, suunnittelija, Lukemattomat mahdollisuudet -hanke</p>

<p>Klo 10.00 – 10.10 Tauko</p>

<p>Klo 10.10 – 11.00 Hyvinvointikirjoittamisen ja soveltavan sanataiteen työvälineitä kirjastotyöhön / Jarna Pihlajamäki, sanataiteilija, Hyvinvointikirjoittaminen</p>

<p>Klo 11.00 – 11.30 Lounas</p>

<p>Klo 11.30 – 12.30 Kirjallisuusterapeuttset työskentelytavat apuna lanu-työssä / Katri Kluukeri, kirjallisuusterapiaohjaaja, Jyväskylän yliopisto</p>

<p>Klo 12.30 – 12.40 Tauko</p>

<p>Klo 12.40 – 14.00 Verkon työkalut lanu-sisältöjen avaamisessa – digistä intoa vinkkausten uudistamiseen / Matleena Laakso, digipedagoginen asiantuntija</p>

<p>Klo 14.00 – 15.00 Iloa ja varmuutta esiintymiseen / Jutta Laino-Tabell, viestintä- ja vuorovaikutustaitojen kouluttaja, draamapedagogi, Ohjaamo</p>

<p><em>Tilaisuuden järjestää Tampereen kaupunginkirjasto. Tampereen kaupunginkirjastolla on alueellinen kehittämistehtävä Pirkanmaan ja Keski-Suomen alueella. Kuvat ja tunnelmat somessa, käytä tunnistetta: #akepike.</em></p>

<h2>Kysy lisää</h2>

<p>Koordinaattori Jarkko Rikkilä<br />
jarkko.rikkila(at)tampere.fi<br />
040 769 0906</p>

LOCATION:Teams
END:VEVENT
END:VCALENDAR