BEGIN:VCALENDAR
VERSION:2.0
PRODID:-//kirjastotfi/procal//NONSGML v1.0//EN
BEGIN:VEVENT
DTSTART:20210312T090000
DTEND:20210312T150000
SUMMARY:Tarinatornado
DESCRIPTION:<p>Täyskymppi (tonni) Tornado! Hyvää syntymäpäivää, me kaikki!</p>

<p>Koulutukseen osallistutaan Teams:n välityksellä. Ilmoittaudu päivään viimeistään 10.3. tästä linkistä: <a href="https://www.lyyti.in/Tarinatornado_9797">https://www.lyyti.in/Tarinatornado_9797</a></p>

<p>&nbsp;</p>

<p><strong>Päivän ohjelma</strong></p>

<p>9.00–9.15 Availlaan linjoja ja siemaillaan aamukahvia.</p>

<p>9.15–9.20 Tervetuloa päivään! Leena Pylkkö, Turun kaupunginkirjasto</p>

<p>9.20–10.00 Pikkulit – kirjasta animaatioksi</p>

<p>10.00–10.40 “En malttanut laskea käsistäni” – hyviä lukuvinkkejä alakoululaisille. Tiina Nilsson, Puuvillan kirjasto, Pori.</p>

<p>10.40–10.50 venyttelytauko</p>

<p>10.50–11.30 Fantastista kauhua yläkoululaisille. Anita Viinamäki, Noormarkun kirjasto, Pori</p>

<p>11.30-12.30 Lounastauko</p>

<p>12.30–13.20 <strong>Alueen hankkeita ja pakopelejä</strong></p>

<ul>
	<li>Toisen asteen hanke Porin pääkirjastossa. Anna Heinonen, Porin pääkirjasto.</li>
	<li>Dystooppista pelaamista Porissa. Päivi Vuorinen, Porin pääkirjasto.</li>
	<li>Robottitehdas – video alueen mediakasvatuksellisesta pakopelistä. Anne Heino ja Leena Pylkkö, Turun kaupunginkirjasto.</li>
	<li>Halloween-kauhua Vahdolla – video pakopelistä, jonka aiheena kirjastonkäytön opetus. Nina Sallinen, Ruskon kirjastopalvelut</li>
	<li>Murhamysteeri Somerolla – video Someron kirjaston elämyksellisestä pakopelistä. Terhi Vaheranta, Somero</li>
</ul>

<p>13.20–14.00 Kirjan talo: Luova lukeminen. Vinkkejä nuorten lukemiseen.</p>

<p>14.00–14.15 tauko ja kahvia + hattukisan tulos</p>

<p>14.15–15.00</p>

<p>Artisti, kirjailija, juontaja Cristal Snown haastattelu. Aiheena mm. Cristalin ensimmäinen kirja, <em>Penni Pähkinäsydän ja Kauhea kadotuskakku</em>, joka julkaistiin vuonna 2020.</p>

<p><strong>&nbsp;</strong></p>

<p><strong>Hattu/ päähine -kisa</strong></p>

<p>Osallistu päähinekilpailuun. Lähetä valokuvasi helmikuun loppuun mennessä <a href="mailto:piia.taponen@kaarina.fi">piia.taponen@kaarina.fi</a>.</p>

<p>Paras päähine palkitaan kirjapalkinnolla! Osallistujien kesken arvotaan myös kirjapalkintoja!</p>

<p><br />
Koulutuksen järjestää ja toteuttaa Lounais-Suomen kirjastojen lasten-ja nuortenkirjastolaisten verkosto Varsat.</p>

LOCATION:Teams
END:VEVENT
END:VCALENDAR