BEGIN:VCALENDAR
VERSION:2.0
PRODID:-//kirjastotfi/procal//NONSGML v1.0//EN
BEGIN:VEVENT
DTSTART:20210322T093000
DTEND:20210322T110000
SUMMARY:Erten etävinkit II
DESCRIPTION:<p>Erten etäilyvinkit jatkuvat&nbsp;”Erten etävinkit II” –koulutuksen merkeissä!&nbsp;Luvassa jälleen aamupäivän täydeltä hyödyllistä tietoa ja mielenkiintoisia ideoita. Maksuttomaan koulutukseen mahtuu 290 ensimmäiseksi ilmoittautunutta. Ilmoittautumiset ja tarkempi ohjelma&nbsp;<a href="https://www.kirjastot.fi/lanu/ajankohtaista/muista?language_content_entity=fi">Erten kotisivuilla.</a></p>

LOCATION:Microsoft Teams
END:VEVENT
END:VCALENDAR