BEGIN:VCALENDAR
VERSION:2.0
PRODID:-//kirjastotfi/procal//NONSGML v1.0//EN
BEGIN:VEVENT
DTSTART:20210428T130000
DTEND:20210428T160000
SUMMARY:Webinar: Towards a more inclusive literature for children
DESCRIPTION:<h2><span>Kohti monimuotoista lastenkirjallisuutta: kohtaamispaikka tekijöille</span></h2>

<p>Lastenkirjainstituutti ja Goethe-Institut järjestävät maksuttoman webinaarin, jossa etsitään tapoja huomioida lapsilukijoiden monimuotoisuus lastenkirjallisuudessa. Webinaari pidetään englanniksi.</p>

<p>Niin vähemmistöt kuin enemmistökin tarvitsevat lastenkirjallisuutta, joka heijastaa yhteiskunnan monimuotoisuutta. &nbsp;Millaisia teoksia tarvitaan, jotta kaikki lapset pääsevät osallisiksi tarinoihin? Miten tällainen kirja valmistuu julkaistavaksi? Kutsumme kaikki uudet ja vanhat toimijat lastenkirjallisuuden kentällä osallistumaan webinaariimme.<br />
&nbsp;<br />
Webinaarissa kuullaan puheenvuoroja tutkimuksen, tekijöiden ja kustannusmaailman näkökulmista. Webinaarin päätteeksi osallistujilla on mahdollisuus verkostoitumiseen.</p>

<h2><span>Ohjelma:&nbsp;</span></h2>

<ul>
	<li>13:00 <strong>Alexandra Stang </strong>(Goethe-Institut) ja <strong>Kaisa Laaksonen</strong> (Lastenkirjainstituutti): Welcome!</li>
	<li>13:15 <strong>Johtava asiantuntija Anna Moring</strong> (Monimuotoiset perheet ry): Diverse families and family situations in children’s literature</li>
	<li>13:30 <strong>Kustannuspäällikkö Frank Kühne</strong> (kustantamo Carlsen, Saksa): Books for all children - Diversity in children’s books in Germany</li>
	<li>14:00 Pääpuhe: <strong>Yliopistonlehtori Jaana Pesonen</strong> (Helsingin yliopisto): Representations of diversity in Finnish children’s literature : Examining gender, ethnicity and dis/ability in the books from 2010s and 2020s.</li>
	<li>14:45 Tauko</li>
	<li>15.00 <strong>Kuvittaja Carlos da Cruz</strong>: When French popular culture meets Finnish history: Apassit children’s book series.</li>
	<li>15:20 <strong>Lastenkirjailija Johanna Lestelä:</strong> How to write a diverse children’s book and get published? - My story</li>
	<li>15:40 Keskustelu</li>
	<li>15.50 Verkostoituminen</li>
</ul>

LOCATION:Online
END:VEVENT
END:VCALENDAR