BEGIN:VCALENDAR
VERSION:2.0
PRODID:-//kirjastotfi/procal//NONSGML v1.0//EN
BEGIN:VEVENT
DTSTART:20210419T093000
DTEND:20210419T103000
SUMMARY:Erten etävinkit III
DESCRIPTION:<p>Erten kolmas tietoisku- &amp; keskustelutilaisuus. Kaikki ilmoittautuneet saavat esitysten tallenteet, jotka ovat katsottavissa kaksi viikkoa. Ohjelma ja ilmoittautumislinkki Erten kotisivuilla:&nbsp;https://www.kirjastot.fi/lanu/ajankohtaista/muista?language_content_entity=fi</p>

LOCATION:Microsoft Teams
END:VEVENT
END:VCALENDAR