BEGIN:VCALENDAR
VERSION:2.0
PRODID:-//kirjastotfi/procal//NONSGML v1.0//EN
BEGIN:VEVENT
DTSTART:20210426T093000
DTEND:20210426T114500
SUMMARY:Erten etävinkit IV / Ertes mini-webbinarium
DESCRIPTION:<p>Erten neljäs ja samalla kevään viimeinen tietoisku- &amp; keskustelutilaisuus järjestetään Teamsissa kaksikielisenä. Kaikki ilmoittautuneet saavat esitysten tallenteet, jotka ovat katsottavissa kaksi viikkoa.</p>

<p>Det fjärde mini-webbinariet i Ertes regi ordnas tvåspråkigt på Teams. Alla anmälda får en länk till inspelningen som finns tillgänglig i två veckor.</p>

<p><br />
Ohjelma ja ilmoittautuminen Erten kotisivuilla: https://www.kirjastot.fi/lanu/ajankohtaista/muista?language_content_entity=fi</p>

LOCATION:Microsoft Teams
END:VEVENT
END:VCALENDAR