BEGIN:VCALENDAR
VERSION:2.0
PRODID:-//kirjastotfi/procal//NONSGML v1.0//EN
BEGIN:VEVENT
DTSTART:20211006T090000
DTEND:20211006T160000
SUMMARY:Oivallus-mediakasvatusseminaari
DESCRIPTION:<p>Oivallus-seminaari 6.10.2021, save the date!</p>

<p>Metkan vuosittainen mediakasvatusseminaari järjestetään jälleen lokakuussa, keskustakirjasto Oodissa sekä striimattuna netissä. Teemana vuonna 2021 on Tulevaisuuden lukutaidot - yhdessä ymmärrystä etsimässä. Ohjelma julkaistaan kevään aikana.</p>

<p>Maksuton seminaari on suunnattu kirjastoammattilaisille, opettajille, varhaiskasvattajille, nuorisotyöntekijöille ja muille lasten ja nuorten mediakasvatusta työssään tekeville.</p>

<p>Metka järjestää seminaarin yhteistyössä Kansallisen audiovisuaalisen instituutin, Innokas-verkoston, Helsingin ja Espoon kaupunginkirjastojen sekä Suomen luokanopettajat ry:n kanssa.</p>

<p>&nbsp;</p>

LOCATION:Helsinki
END:VEVENT
END:VCALENDAR