BEGIN:VCALENDAR
VERSION:2.0
PRODID:-//kirjastotfi/procal//NONSGML v1.0//EN
BEGIN:VEVENT
DTSTART:20210510T130000
DTEND:20210510T140000
SUMMARY:Tietoisku: Materiaaleja ala- ja yläkouluikäisten mediakasvatukseen
DESCRIPTION:<p>Tiesitkö, että Mediakasvatuskeskus Metkan kotisivuilta löytyy runsaasti ilmaisia materiaaleja eri-ikäisten lasten ja nuorten mediakasvatukseen? Millaisia materiaalit ovat ja miten ne sopivat kirjaston mediakasvatustyöhön? Tervetuloa tutustumaan eri materiaaleihin ja niiden käyttöön tässä tunnin mittaisessa tietoiskussa.</p>

<p>Tietoisku: Materiaaleja ala- ja yläkouluikäisten mediakasvatukseen<br />
ma 10.5.2021 klo 13–14<br />
Zoom</p>

<p>Ei ennakkoilmoittautumista.&nbsp;Kalenterikutsu on lähetetty Lahden AKE-alueen yleisten kirjastojen yhteisiin sähköposteihin.</p>

<h2>Mediadialogia! kortit alakoululaisten mediakasvatukseen</h2>

<p>Metkan uusimmassa oppimateriaalissa käsitellään erilaisia lasten digimedian käyttöön liittyviä teemoja. Korttien tarkoituksena on antaa kasvattajille välineitä keskustella mediakulttuurin antamista haasteista ja mahdollisuuksista. Dialogikorttien avulla lapset pystyvät itse kertomaan kokemuksistaan mediakulttuurissa ja arvioimaan yhdessä aikuisen kanssa medialaitteiden roolia arjessa.</p>

<p><a href="https://mediametka.fi/mediadialogia-kortit-alakoululaisten-mediakasvatukseen/">Lue lisää mediadialogiakorteista Metkan sivuilta. (Linkki aukeaa uuteen välilehteen.)</a></p>

<p>Uusia mediadialogikortteja ja vanhempia mediakasvatusmateriaaleja meille esittelee Mediakasvatuskeskus Metkan toiminnanjohtaja&nbsp;<strong>Kaisa Önlen</strong>.</p>

<p><a href="https://mediametka.fi/materiaalit/">Voit tutustua Metkan materiaaleihin etukäteen täällä. (Linkki aukeaa uuteen välilehteen.)</a></p>

<h2>Kuka voi osallistua?</h2>

<p>Tilaisuus on rajattu&nbsp;Lahden AKE-alueen eli Etelä-Karjalan, Kanta-Hämeen, Kymenlaakson ja Päijät-Hämeen alueen yleisten kirjastojen henkilökunnalle.</p>

LOCATION:Zoom
END:VEVENT
END:VCALENDAR