BEGIN:VCALENDAR
VERSION:2.0
PRODID:-//kirjastotfi/procal//NONSGML v1.0//EN
BEGIN:VEVENT
DTSTART:20210521T090000
DTEND:20210521T160000
SUMMARY:Äänenhuoltokoulutus 
DESCRIPTION:<p><strong>Lisää ilmaisuvoimaa&nbsp;-koulutuspäivä perjantaina 21.5. klo 9-16</strong></p>

<p>Haluaisitko oppia säästämään ääntäsi ja kehittämään äänenkäyttöäsi kestävämmäksi? Tai pitkän puhetta täynnä olevan päivän jälkeen kurkku tuntuu kipeältä ja ääni on käheä? Kun haluat, että äänesi toimii ja jaksaa moitteettomasti koko työpäivän, on syytä tulla tietoiseksi myös muista ääneesi vaikuttavista tekijöistä.</p>

<p>Tule mukaan vähän erilaisempaan koulutukseen, jossa voit irrottautua arjesta ja pääset iloitsemaan äänelläsi. Koulutus on kaikille, jotka haluavat harjoittaa ja muokata omaa ääntä. Koulutuspäivän aikana vokologit antavat ohjausta äänenvarioinnissa ja jakavat henkilökohtaista palautetta äänenkäytöstä. Osallistujat jaetaan pienryhmiin (pahikset, sankarit, viekkaat viettelijät), jossa harjoitellaan äänen variaatioita ja kokeillaan erilaisia lukutapoja. Osallistujat tulevat myös päivän aikana kiertämään kaikki pienryhmien teemat läpi, jolloin jokainen saa mahdollisuuden kokeilla kaikkia eri äänen variaatioita.&nbsp;<strong>Koulutuspäivän onnistumisen vuoksi sinulla on oltava mikrofoni ja mahdollisuus puhua sekä käyttää voimakastakin ääntä estettä.</strong></p>

<p>&nbsp;</p>

<p><strong>Ilmoittaudu </strong>viimeistään tiiistaina 18.5:&nbsp;<a href="https://eur02.safelinks.protection.outlook.com/?url=https%3A%2F%2Fwebropol.com%2Fep%2Faani2&amp;data=04%7C01%7Canneli.haapaharju%40vaasa.fi%7C4f31a568e6784fa71d0908d8e9ee2f2b%7Cca90073cd8ee46ecb57cb4683bbb42cb%7C0%7C0%7C637516556518213326%7CUnknown%7CTWFpbGZsb3d8eyJWIjoiMC4wLjAwMDAiLCJQIjoiV2luMzIiLCJBTiI6Ik1haWwiLCJXVCI6Mn0%3D%7C1000&amp;sdata=zu%2B%2Fp9%2FFnUUKHQ4EQLl6P3TZ9jIlxRuYPNSxKL89LUw%3D&amp;reserved=0">https://webropol.com/ep/aani2</a></p>

<p>Koulutuspäivään on rajoitettu osallistujamäärä; vain 30 henkilöä!</p>

<p>&nbsp;</p>

<p>Koulutuksen avulla minimoit turhat jännitykset ja ohjataan äänenkäytön ja ilmaisun energia tarkoituksenmukaisiin toimintoihin sekä opit tukeutumaan hengitykseen puheen voimanlähteenä, vahvistamaan resonanssia ja tarkentamaan artikulaatiota.&nbsp;Äänenhuolto edistää myös sinun kokonaishyvinvointiasi. Äänenhuolto on valmistautumista, rauhoittumista ja keskittymistä. Äänenhuollossa keho ja mieli saatetaan yhteyteen, ja ne tulevat tietoisemmaksi toisistaan. Äänenhuoltoon liittyy vahvasti hengityksen lempeä säätely ja syventäminen.&nbsp;</p>

<p>&nbsp;</p>

<p>Koulutus on alueelliseen kehittämistehtävään kuuluvaa täydennyskoulutusta ja on osallistujille maksutonta.</p>

<p>&nbsp;</p>

<p><strong>Tervetuloa!</strong></p>

LOCATION:Zoom
END:VEVENT
END:VCALENDAR