BEGIN:VCALENDAR
VERSION:2.0
PRODID:-//kirjastotfi/procal//NONSGML v1.0//EN
BEGIN:VEVENT
DTSTART:20211007T100000
DTEND:20211007T140000
SUMMARY:Lasten ja nuorten sarjakuvat – Sarjakuvan tulevaisuus
DESCRIPTION:<p>Ohjelma tulossa.</p>

<p>&nbsp;</p>

<p>Yhteyshenkilöt: Anneli Ketonen, puh. 040 520 6156 ja Kaisa Laaksonen, puh. 050 3615 639.</p>

LOCATION:
END:VEVENT
END:VCALENDAR