BEGIN:VCALENDAR
VERSION:2.0
PRODID:-//kirjastotfi/procal//NONSGML v1.0//EN
BEGIN:VEVENT
DTSTART:20211029T100000
DTEND:20211029T140000
SUMMARY:Nuoret, osallisuus ja kirjasto – PiKen lanu-foorumi
DESCRIPTION:<p>Nuorten kohtaaminen, nuorten osallistumismahdollisuuksien lisääminen ja nuorten palveluiden kehittäminen nousevat usein esille kirjastoalalla. 29.10. järjestettävän lanu-foorumin puheenvuorot valottavat ajankohtaisia hankkeita, nuorten osallisuuden näkökulmia ja tuovat konkreettisia esimerkkejä kirjastoalalta sekä alan ulkopuolelta. Puheenvuoroissa pohditaan myös, mitä oikeastaan tarkoitamme puhuessamme nuorista ja nuorten kiinnostuksen kohteista.</p>

<p><strong>Nuoret, osallisuus ja kirjasto – PiKen lanu-foorumi pe 29.10.<br />
Pe 29.10.<br />
Klo 10.00 – 14.00<br />
Osoitteessa: akepike.fi/live</strong></p>

<p>PiKen lanufoorumi on suunnattu tuttuun tapaan lasten ja nuorten kirjastotyötä tekeville ammattilaisille sekä kirjastolaisille, jotka haluavat oppia ymmärtämään nuorten toimintaympäristön muutoksista. Lähetykset on suunnattu Pirkanmaan ja Keski-Suomen kirjastolaisille, mutta niitä voi seurata myös valtakunnallisesti. Päivä toteutetaan etälähetyksenä yhteistyössä <a href="https://www.solidstream.fi/">Solid Streamin</a> kanssa.</p>

<p>Voit seurata ohjelmaa ilman ennakkoilmoittautumista osoitteessa: <a href="https://akepike.fi/live/">http://akepike.fi/live</a>. Lähetysten aikana katsojilla on mahdollisuus kommentoida chatin kautta. Puheenvuorot tallennetaan, tekstitetään ja jaetaan Kirjastokaistalla.</p>

<h2>Ohjelma</h2>

<p>Klo 10.00–10.10 Tervetuloa ja päivän ohjelma / Elisa Marttinen, palvelupäällikkö (Tampereen kaupunginkirjasto)</p>

<p>Klo 10.10–10.25 Ajankohtaista Seinäjoen ertestä / Mervi Heikkilä, kehityspäällikkö (Lasten ja nuorten lukemista edistävien kirjastopalvelujen valtakunnallinen erityistehtävä)</p>

<p>Klo 10.25–10.40 Lukemisen trendivallankumous innostaa nuoria tuottamaan mediasisältöjä / Ilkka Valpasvuo, projektisuunnittelija (Tampereen kaupunginkirjasto)</p>

<p>Klo 10.40–10.45 Tauko</p>

<p>Klo 10.45–11.30 Politiikka ja työ eivät nuoria kiinnosta – Ja muita väärinymmärryksiä Y- ja Z-sukupolvista / Tuija Siltamäki, toimittaja (Ylioppilaslehti, Yleisradio, Helsingin Sanomat ja Image)</p>

<p>Klo 11.30–12.00 Lounastauko</p>

<p>Klo 12.00–12.45 ”Kun me haluttaisiin niitä nuoria enemmän mukaan!”–nuorten osallisuus nyt ja tulevaisuudessa / Heidi Enbacka, tuottaja (Lasten ja nuorten säätiö)</p>

<p>Klo 12.45–13.15 Mun kirjasto – nuorten osallisuutta Espoon kirjastoissa / Leila Koivukangas, asiakaspalvelupäällikkö (Espoon kaupunginkirjasto)</p>

<p>Klo 13.15–13.20 Tauko</p>

<p>Klo 13.20–13.55 Nuoret ei lue, eikä kirjallisuus kiinnosta. Jaa, ei vai? / Anna-Maria Talvio, tuottaja (Yle Kioski)</p>

<p>Klo 13.55–14.00 Päivän yhteenveto / Elisa Marttinen, palvelupäällikkö (Tampereen kaupunginkirjasto)</p>

<p>Tilaisuuden järjestää Tampereen kaupunginkirjasto. Tampereen kaupunginkirjastolla on alueellinen kehittämistehtävä Pirkanmaan ja Keski-Suomen alueella.</p>

<h2>Kysy lisää</h2>

<p>Koordinaattori Jarkko Rikkilä<br />
jarkko.rikkila(at)tampere.fi<br />
<a href="tel:040 800 7828">040 800 7828</a></p>

LOCATION:akepike.fi/live
END:VEVENT
END:VCALENDAR