BEGIN:VCALENDAR
VERSION:2.0
PRODID:-//kirjastotfi/procal//NONSGML v1.0//EN
BEGIN:VEVENT
DTSTART:20211117T120000
DTEND:20211117T160000
SUMMARY:Moninainen kirjasto -koulutus 
DESCRIPTION:<p>Kirjastoseuran Kansainvälisyys- ja monikulttuurisuustyöryhmä järjestää webinaarin 17.11.2021 klo 12-16. Muistathan ilmoittautua koulutukseen.</p>

<p>Koulutuksessa tuodaan esille Monikielisen kirjaston palveluita sekä monikulttuurisen kirjastotyön hyviä käytäntöjä. Tule saamaan vinkkejä työhösi sekä jakamaan kokemuksiasi muille!</p>

<p>Koulutus on maksuton, mutta toivomme ilmoittautumista ennakkoon 14.11.2021 mennessä.</p>

<p>Ohjelma</p>

<p>12:00&nbsp;&nbsp;&nbsp;&nbsp;&nbsp;&nbsp;&nbsp;&nbsp;&nbsp;&nbsp;&nbsp;&nbsp;&nbsp;&nbsp;&nbsp;&nbsp;&nbsp; Kansainvälisyys- ja monikulttuurisuus -työryhmän esittely</p>

<p>12:15&nbsp;&nbsp;&nbsp;&nbsp;&nbsp;&nbsp;&nbsp;&nbsp;&nbsp;&nbsp;&nbsp;&nbsp;&nbsp;&nbsp;&nbsp;&nbsp;&nbsp; Monikielisen kirjaston palvelut,&nbsp;<strong>Eeva&nbsp;Pilviö</strong>&nbsp;ja&nbsp;<strong>Riitta Hämäläinen</strong> Monikielinen kirjasto&nbsp;sekä<strong>&nbsp;Kirsi Vanharanta</strong>, Kaukopalvelu</p>

<p>13:00&nbsp;&nbsp;&nbsp;&nbsp;&nbsp;&nbsp;&nbsp;&nbsp;&nbsp;&nbsp;&nbsp;&nbsp;&nbsp;&nbsp;&nbsp;&nbsp;&nbsp; Palveluiden ja sisältöjen suosittelu monikulttuurisen kirjastotyön näkökulmasta – havaintoja ja hyviä käytäntöjä,&nbsp;&nbsp;<strong>Susanna Kolehmainen</strong>, Turun kaupunginkirjasto&nbsp;ja<strong>&nbsp;Katherine Reunanen</strong>,&nbsp;Espoon kaupunginkirjasto</p>

<p>13:45&nbsp;&nbsp;&nbsp;&nbsp;&nbsp;&nbsp;&nbsp;&nbsp;&nbsp;&nbsp;&nbsp;&nbsp;&nbsp;&nbsp;&nbsp;&nbsp;&nbsp; Lyhyt tauko</p>

<p>14:00&nbsp;&nbsp;&nbsp;&nbsp;&nbsp;&nbsp;&nbsp;&nbsp;&nbsp;&nbsp;&nbsp;&nbsp;&nbsp;&nbsp;&nbsp;&nbsp;&nbsp; Monikulttuurinen kirjastohenkilökunta,&nbsp;<strong>Katherine Reunanen</strong>, Espoon kaupunginkirjasto</p>

<p>14:30&nbsp;&nbsp;&nbsp;&nbsp;&nbsp;&nbsp;&nbsp;&nbsp;&nbsp;&nbsp;&nbsp;&nbsp;&nbsp;&nbsp;&nbsp;&nbsp;&nbsp; Terveisiä&nbsp;Digital&nbsp;Travellers&nbsp;-hankkeesta, <strong>Tuomo Mannonen</strong> Kirjastoseura</p>

<p>15:00&nbsp;&nbsp;&nbsp;&nbsp;&nbsp;&nbsp;&nbsp;&nbsp;&nbsp;&nbsp;&nbsp;&nbsp;&nbsp;&nbsp;&nbsp;&nbsp;&nbsp; Moninaisuus kirjaston arjessa</p>

<p>16:00&nbsp;&nbsp;&nbsp;&nbsp;&nbsp;&nbsp;&nbsp;&nbsp;&nbsp;&nbsp;&nbsp;&nbsp;&nbsp;&nbsp;&nbsp;&nbsp;&nbsp; Koulutus päättyy</p>

<p>Pääset ilmoittautumaan koulutukseen <a href="https://suomenkirjastoseura-lv.creamailer.fi/survey/w23mnxoey2xp7">tästä</a><br />
&nbsp;</p>

LOCATION:
END:VEVENT
END:VCALENDAR