BEGIN:VCALENDAR
VERSION:2.0
PRODID:-//kirjastotfi/procal//NONSGML v1.0//EN
BEGIN:VEVENT
DTSTART:20211115T123000
DTEND:20211115T153000
SUMMARY:Verraton vertaisryhmämentorointi II
DESCRIPTION:<p>Keväällä AKE Porvoon ja Helmet-kirjastojen SEDU-ryhmän yhteistyönä toteutettu vertaisryhmämentorointipilotti oli menestys. Vertaisryhmässä etsittiin yhdessä ratkaisuja työn haasteisiin ja opittiin samalla uutta, kun jaettiin kokemuksia ja hyviä käytäntöjä.</p>

<p>Verraton vertaisryhmämentorointi II -webinaarissa jatkamme perehtymistä vertaisryhmämentorointiin.</p>

<p>Mitä vertaisryhmämentorointi on? Mitä hyötyä siitä on? Entä miten vertaisryhmämentorointiryhmää voisi vetää? Webinaarissa saamme paitsi vastauksia näihin kysymyksiin myös kuulumiset kevään pilotista.</p>

<p>Käynnistämme syksyllä vertaisryhmämentorointiryhmät lasten- ja nuortenkirjastotyötä tekeville, ikäihmisten kirjastopalvelujen parissa työskenteleville sekä kirjastojen osallisuustyötä tekeville. Webinaarissa saat tietoa myös näistä.</p>

<p><strong>Ohjelma</strong><br />
<br />
12.30–12.40 Tervetuloa</p>

<p>12.40–13.30 Vertaisryhmämentorointi. Mitä se oikein on?<br />
Projektitutkija Matti Pennanen, Jyväskylän yliopisto</p>

<p>13.30 Tauko 15 min</p>

<p>13.45–14.25 Kokemuksia vertaisryhmämentoroinnista<br />
HR-asiantuntija, KM Mimmi Mönkkönen</p>

<p>14.25 Tauko 5 min</p>

<p>14.30–15 Kokemuksia kevään pilotista<br />
Ryhmän vetäjä, erikoiskirjastonhoitaja Maija Lehtola Vantaan kaupunginkirjastosta ja osallistuja, kirjastonjohtaja Keth Strömdahl Askolan kirjastosta kertovat kokemuksistaan vertaisryhmämentorointipilotista.</p>

<p>15–15.20 Vertaisryhmien esittely: lasten- ja nuortenkirjastotyö, senioriasiakkaat &amp; kirjastojen osallisuustyö</p>

<p>15.20 Päivän yhteenveto ja päätös</p>

<p><strong>Ilmoittaudu</strong><br />
<br />
Ilmoittaudu Verraton vertaisryhmämentorointi II -webinaariin viimeistään keskiviikkona 10. marraskuuta. Linkki webinaariin lähetetään ilmoittautuneille kalenterikutsuna.</p>

<p><a href="https://www.emaileri.fi/g/u/4031829/74071871/2220689/6953/2311/5/">&gt; Ilmoittautumislomake</a></p>

LOCATION:Teams
END:VEVENT
END:VCALENDAR