BEGIN:VCALENDAR
VERSION:2.0
PRODID:-//kirjastotfi/procal//NONSGML v1.0//EN
BEGIN:VEVENT
DTSTART:20211202T093000
DTEND:20211202T153000
SUMMARY:Uudenmaan kirjastopäivä UKP21
DESCRIPTION:<p>Jo hieman legendaarisen maineen saavuttanut Uudenmaan kirjastopäivä järjestetään jälleen pitkästä aikaa lähitapahtumana Pasilan kirjastossa Helsingissä. Seuraamaan pääsee myös streamin kautta.</p>

<p>Ohjelmassa mielenkiintoisia puhujia ja rautaista asiaa kirjastokentältä. Tarkempi ohjelma julkaistaan piakkoin Porvoon AKE:n sivulla <a href="https://uudenmaankirjastot.fi/">uudenmaankirjastot.fi</a></p>

<p>Uudenmaan kirjastopäivä on tarkoitettu kaikille Uudenmaan kuntien yleisten kirjastojen työntekijöille.</p>

<p><a href="https://link.webropolsurveys.com/S/9B79C48D8524C2CE">Ilmoittautumislomake</a></p>

<p>Lisätietoja:</p>

<p>Jan Nyström</p>

<p>040 596 0592</p>

<p>jan.nystrom@porvoo.fi</p>

LOCATION:Pasilan kirjasto
END:VEVENT
END:VCALENDAR