BEGIN:VCALENDAR
VERSION:2.0
PRODID:-//kirjastotfi/procal//NONSGML v1.0//EN
BEGIN:VEVENT
DTSTART:20211202T093000
DTEND:20211202T153000
SUMMARY:Uudenmaan kirjastopäivä 
DESCRIPTION:<p>Uudenmaan kirjastopäivä – Uudenmaan kirjastokous kokous järjestetään tänä vuonna jälleen lähitapahtumana Pasilan kirjastossa Helsingissä. Tervetuloa tapaamaan kollegoita ja kuulemaan hyviä ja informativiisia alustuksia. Vieraina mm. kirjailija Sirpa Kähkönen ja KT, erityispedagogi Erja Sandberg. Erja on&nbsp; vahvuusperusteisen tukemisen asiantuntija ja puhuu meille lasten ja nuorten kohtaamisesta.&nbsp; Tutustumme myös ensi vuoden AKE-suunnitelmiin ja valitsemme <a href="https://uudenmaankirjastot.fi/yleisten-kirjastojen-neuvoston-alueellisen-edustajan-valinta-uudellamaalla/">Uudenmaan alueellisen edustajan yleisten kirjastojen neuvostoon.</a></p>

<p>Tilaisuus myös striimataan Teamsin kautta</p>

<p><strong>Ohjelma</strong></p>

<p>9.30-10.00 Tervetulokahvit/Välkomstkaffe&nbsp;</p>

<p>10.00-11.00 Erja Sandberg: Lasten ja nuorten kohtaaminen</p>

<p>11.00.11.15 Porinatauko/&nbsp;Babbelpaus&nbsp;</p>

<p>11.15-12.00&nbsp;Sirpa Kähkönen:&nbsp;&nbsp;Mitä kirjasto merkitsee minulle?&nbsp;</p>

<p>12.00-13.00 Lounas (omakustanteinen)&nbsp;</p>

<p>13.00-13.20 Veera Visuri:&nbsp; Nuoret ja ympäristötunteet -hanke&nbsp;</p>

<p>13.20-13.40 Aija Laine: Osaamisen kehittämisen kartoitus&nbsp;</p>

<p>13.40-14.00 Päivi Litmanen-Peitsala: Kuulumisia Kifistä&nbsp;</p>

<p>14.00-14.20 Kahvitauko&nbsp;</p>

<p>14.20-14.40 Malin Hollmen:&nbsp; Borgå stadsbibliotek förnyas&nbsp;</p>

<p>14.40-15.00 Jan Nyström AKE-toimintasuunnitelma Verksamhetsplan 2022&nbsp;</p>

<p>15.00-15.20 Yleisten kirjastojen neuvoston alueellisen edustajan valinta. Val av regional representant till rådet för de allmänna biblioteken&nbsp;</p>

<p>15.20-15.30 Uudenmaan kirjastopäivän päättäminen. Avslutandet av Nylands biblioteksdag&nbsp;</p>

<p><strong>Ilmoittautuminen</strong></p>

<p>Ilmoittaudu alla olevan linkin kautta</p>

<p><a href="https://link.webropolsurveys.com/S/9B79C48D8524C2CE">Ilmoittautumislinkki</a></p>

LOCATION:Pasilan kirjasto
END:VEVENT
END:VCALENDAR