BEGIN:VCALENDAR
VERSION:2.0
PRODID:-//kirjastotfi/procal//NONSGML v1.0//EN
BEGIN:VEVENT
DTSTART:20220128T090000
DTEND:20220128T103000
SUMMARY:Kaikkien kirjasto: maksut ja maksuttomuus
DESCRIPTION:<p>Lahden AKEn etäkahveilla keskustellaan vuoden 2022 aikana yhdenvertaisuudesta kirjaston arjessa. Kuinka kirjastojen palveluja voitaisiin vielä paremmin kehittää kaikki asiakasryhmät huomioiden? Miten tuetaan yhdenvertaisuutta ja palvelujen saavutettavuutta myös niille ryhmille, jotka helposti jäävät marginaaliin?</p>

<h2>Myöhästymismaksut lukemista edistämässä vai estämässä?</h2>

<p>Keskustelu kirjastojen maksuttomuudesta ja maksuista virisi jälleen syksyllä 2021, kun New Yorkin pääkirjasto päätti armahtaa asiakkaiden myöhästymismaksut ja lopettaa niiden perimisen kokonaan. Suomessa myöhästymismaksut ovat lähes poikkeuksetta yhä käytössä ja niiden katsotaan kannustavan kirjaston asiakkaita palauttamaan lainaamansa aineiston ajoissa. Osassa kirjastoja myöhästymismaksuista kertyvä potti on myös merkittävä osa kirjaston budjettia.</p>

<p>Miten siis kävisi, jos myöhästymismaksuista luovuttaisiin myös suomalaisissa kirjastoissa? Pohjois-Pohjanmaalla tästä on jo kokemusta.</p>

<p>Tervetuloa mukaan tammikuun etäkahveille keskustelemaan kirjaston maksuttomuudesta ja maksuista. Etäkahveilla Ylivieskan kirjastojohtaja&nbsp;<strong>Tuulevi Borén</strong>&nbsp;kertoo, miten Joki-kirjastot päätyivät poistamaan myöhästymismaksut, mitä sen jälkeen tapahtui ja miten he suhtautuvat kirjaston maksuttomuuteen ja maksuihin nyt.</p>

<ul>
	<li><a href="https://kirjastossatavataan.fi/blog/joki-kirjastot-edellakavijoita-myohastymismaksujen-poistajina/">Lue lisää: Joki-kirjastot edelläkävijöinä myöhästymismaksujen poistajina.</a></li>
</ul>

<h2>Kohderyhmä ja ilmoittautuminen</h2>

<p>Etäkahveille ovat tervetulleita kaikki aiheesta kiinnostuneet kirjastolaiset. Teams-osallistumislinkin sisältävä kalenterikutsu lähetetään kaikkien Lahden AKE-alueen kirjastojen yleisiin sähköpostiosoitteisiin, josta sen voi jakaa eteenpäin oman kirjaston henkilöstölle. Voit myös tilata kalenterikutsun suoraan omaan sähköpostiisi alla olevalla lomakkeella.</p>

<ul>
	<li><a href="https://link.webropolsurveys.com/EP/5589FEC6D65F1C5F">Ilmoittaudu mukaan etäkahveille viimeistään 27.1.2022 klo 15 täällä.</a></li>
</ul>

<h2>Lisätietoa</h2>

<p>Pasi Kangas<br />
mediakasvatuskoordinaattori<br />
Lahden kaupunginkirjasto,<br />
alueellinen kehittämistehtävä<br />
pasi.kangas@lahti.fi<br />
044 482&nbsp;6153</p>

LOCATION:Teams
END:VEVENT
END:VCALENDAR