BEGIN:VCALENDAR
VERSION:2.0
PRODID:-//kirjastotfi/procal//NONSGML v1.0//EN
BEGIN:VEVENT
DTSTART:20220201T093000
DTEND:20220201T110000
SUMMARY:Pienten kirjastojen lanu-etävinkit nro. 1
DESCRIPTION:<p><strong>Hei sinä pienessä kirjastossa lasten- ja nuortenkirjastotyötä tekevä!</strong></p>

<p>Kaipaatko vertaisryhmää tai vinkkejä, miten pienessä kirjastossa voi tehdä menestyksekkäästi lasten- ja nuortenkirjastotyötä?&nbsp;&nbsp;</p>

<p>Erten Pienten kirjastojen lanu-etävinkit on sinua varten. Ensimmäinen kokoontuminen on&nbsp;1.2. Ilmoittaudu ja&nbsp;tule h-hetkellä mukaan&nbsp;tai katso tallenne päivän esityksistä!</p>

<p>OHJELMA</p>

<p>klo 9.30–9.45<br />
Pienten kirjastojen pilotti 2021 - Mitä saatiin yhdessä aikaan?<br />
<em>Mervi Heikkilä &amp; osallistuneet kirjastot</em></p>

<p>klo 9.45–10.00<br />
Keskustelua</p>

<p>klo 10.00–10.30<br />
Näin meillä - lanu-työtä Luumäen ja Kangasvarren kirjastoissa<br />
<em>Anu Kokko, kirjastonhoitaja</em></p>

<p>klo 10.30–11.00<br />
Keskustelua ja kysymyksiä</p>

<p><strong><a href="https://link.webropolsurveys.com/EP/69A071C5C0B02C19">Ilmoittaudu mukaan täällä!&nbsp;</a></strong></p>

<p>Päivän esitykset tallennetaan, mutta keskusteluosuuksia ei. Linkki tallenteeseen lähetetään sähköpostitse kaikille ilmoittautuneille. Tallenne on katsottavissa 14 päivän ajan.</p>

LOCATION:Microsoft Teams
END:VEVENT
END:VCALENDAR