BEGIN:VCALENDAR
VERSION:2.0
PRODID:-//kirjastotfi/procal//NONSGML v1.0//EN
BEGIN:VEVENT
DTSTART:20220224T090000
DTEND:20220224T100000
SUMMARY:Typorama -työpaja to 24.2. klo 9-10
DESCRIPTION:<p><strong>Tervetuloa Typorama -työpajaan!</strong></p>

<p>Torstaina&nbsp;<strong>24.2. klo 9.00-10.00</strong>&nbsp;järjestämme webinaarin teemalla Typorama. Haluatko muokata kuviasi ja lisätä niihin tekstiä? Haluaisitko tehdä valokuvista houkuttelevampia? Typorama-sovellus on ilmainen (myös maksuversio), jonka avulla voit lisätä tekstiä valokuviin helposti ja nopeasti. Voit myös muokata tekstin väriä, varjoa tai terävyyttä. Lisäksi sovellus tarjoaa myös mallipohjia erikoisille kuville, esimerkiksi Instagram tai Facebook. Näin kuvan mittoja ei tarvitse leikata tai pienentää sosiaalisten jakamisalustojen mukaan. Nämä kaikki ominaisuudet tulemme käymään läpi webinaarin aikana.</p>

<p>Ennen webinaariin tuloa lataa ilmainen sovellus puhelimeesi ja ota puhelin mukaan. Webinaariin kannattaa osallistua tietokoneella, jotta voit kuunnella ohjauksia ja samalla muokata puhelimen Typorama-sovelluksella haluamiasi kuvia. Ota mukaasi myös joku kuvattava kirja tai valmiita kuvia kirjoista/kirjastostasi. Voit heti webinaarin jälkeen laittaa juuri tekemäsi kuvat some-kanaviin.</p>

<p><a href="https://us02web.zoom.us/j/82285914642">Klikkaa itsesi mukaan</a></p>

<p>&nbsp;</p>

LOCATION:Zoom
END:VEVENT
END:VCALENDAR