BEGIN:VCALENDAR
VERSION:2.0
PRODID:-//kirjastotfi/procal//NONSGML v1.0//EN
BEGIN:VEVENT
DTSTART:20220309T090000
DTEND:20220309T100000
SUMMARY:Kuvankäsittelytyökalut -työpaja ke 9.3. klo 9-10
DESCRIPTION:<p><strong>Tule muokkaamaan kuviasi keskiviikkona 9.3. klo 9-10 etätyöpajaan.</strong></p>

<p>Kouluttaja Petri Ilmonen esittelee useamman ilmaisen sovelluksen (iOS ja Android), joilla voit editoida nopeasti ja helposti kuvasi julkaistavaksi. Petri ohjaa sinua myös kuvien muokkaamisessa etätyöpajassa. Ota työpajaan mukaan kännykkäsi ja/tai tablettilaitteesi, johon voit ladata halutessasi sovelluksen/sovellukset, joita haluat kokeilla. Ota lisäksi muutama kuva (1-3) haluamastasi kohteesta ennen työpajan alkamista - harjoittelemme muokkausta näillä kuvilla.</p>

<p>Työpajaan pääset klikkaamalla: <a href="https://eur02.safelinks.protection.outlook.com/?url=https%3A%2F%2Fus02web.zoom.us%2Fj%2F82446418265&amp;data=04%7C01%7Canneli.haapaharju%40vaasa.fi%7C6ce250bc132d43db0aed08d9e7ac5897%7Cca90073cd8ee46ecb57cb4683bbb42cb%7C0%7C0%7C637795549726628011%7CUnknown%7CTWFpbGZsb3d8eyJWIjoiMC4wLjAwMDAiLCJQIjoiV2luMzIiLCJBTiI6Ik1haWwiLCJXVCI6Mn0%3D%7C3000&amp;sdata=kRh1LvzjH94ToO0rDYBkn14NOw8%2BWvEekvLtsqwWqcI%3D&amp;reserved=0">https://us02web.zoom.us/j/82446418265</a></p>

<p><br />
<strong>TERVETULOA!</strong></p>

LOCATION:Zoom
END:VEVENT
END:VCALENDAR