BEGIN:VCALENDAR
VERSION:2.0
PRODID:-//kirjastotfi/procal//NONSGML v1.0//EN
BEGIN:VEVENT
DTSTART:20220309T130000
DTEND:20220309T160000
SUMMARY:Uusia taitoja tulevaisuuteen: digiä, mediaa ja ohjelmointia Lounais-Suomessa
DESCRIPTION:<p>Webinaari käsittelee uusia lukutaitoja digitaalisessa ajassa. Miten uudet osaamisen kuvaukset tukevat pedagogista toimintaa? Asiantuntijapuheenvuorot ja esittelyt tarjoavat näkökulmia sekä tukea käytännön työhön ja pedagogisen toiminnan kehittämiseen.</p>

<p>Maksuttomaan tilaisuuteen ovat tervetulleet kaikki varhaiskasvatuksen, esiopetuksen ja perusopetuksen opetus- ja kasvatustyön ammattilaiset sekä kaikki lasten ja nuorten parissa työskentelevät.</p>

<p>Osana Uudet lukutaidot -kehittämisohjelmaa tilaisuuden järjestää yhteistyössä Kansallinen audiovisuaalinen instituutti, Opetushallitus ja Lounais-Suomen aluehallintovirasto.</p>

<p>Uudet lukutaidot -kehittämisohjelman tavoitteena on vahvistaa lasten ja nuorten medialukutaitoja, tieto- ja viestintäteknologista osaamista sekä ohjelmoinnin osaamista varhaiskasvatuksessa sekä esi- ja perusopetuksessa. Uudet lukutaidot -kehittämisohjelma on osa opetus- ja kulttuuriministeriön laajempaa Oikeus oppia -kehittämisohjelmaa (2020–2022).</p>

<p>&nbsp;</p>

LOCATION:teams
END:VEVENT
END:VCALENDAR