BEGIN:VCALENDAR
VERSION:2.0
PRODID:-//kirjastotfi/procal//NONSGML v1.0//EN
BEGIN:VEVENT
DTSTART:20220406T130000
DTEND:20220406T143000
SUMMARY:Digituen etätreffit: Diginatiivi nuori on myytti
DESCRIPTION:<p>Vuoden 2022 toiset Digituen etätreffit järjestetään Teams-kokouksena keskiviikkona 6.4.2022 klo 13.00 — 14.30 otsikolla Diginatiivi nuori on myytti — nuorikin tarvitsee digitukea. Keskustelua pohjustaa nuorisotyön osaamiskeskus Koordinaatin erityisasiantuntija&nbsp;<strong>Mika Pietilä</strong>.</p>

<ul>
	<li><a href="https://bit.ly/DigituenEtatreffit">Liity mukaan Digituen etätreffeille ke 6.4.2022 klo 13.00 — 14.30 osoitteessa bit.ly/DigituenEtatreffit2. Linkki vie suoraan Teams-kokoukseen.</a></li>
</ul>

<h2>Digituen etätreffeiltä innostusta digiin ja rohkaisua opastamiseen</h2>

<p>Innostu digistä! Digituen etätreffit tarjoavat vuonna 2022 uutta tietoa erilaisten asiakasryhmien ja yksilöiden medialukutaitojen edistämisestä sekä rohkeutta ja vertaistukea opastustilanteisiin. Etätreffeillä pääset myös tapaamaan muita digituen parissa toimivia kehittämisalueemme kirjastolaisia Etelä-Karjalasta, Kanta-Hämeestä, Kymenlaaksosta ja Päijät-Hämeestä. Myös muut kirjastoissa digitukea tarjoavat tahot ovat tervetulleita etätreffeille.</p>

<p>Järjestämme vuonna 2022 yhteensä neljät Digituen etätreffit: kahdet keväällä ja kahdet syksyllä. Digituen etätreffeille kokoonnutaan aina keskiviikkoiltapäivisin klo 13.00 — 14.30.</p>

<ul>
	<li><a href="https://lahdenake.fi/artikkelit/digituen-etatreffit-alkavat-2-2-2022/">Lue lisää Digituen etätreffeistä ja katso koko vuoden ohjelma ja aikataulu täältä.</a></li>
</ul>

<h2>Kuka voi osallistua?</h2>

<p>Digituen etätreffeille ovat tervetulleita kaikki digituesta ja asiakkaiden opastamisesta kiinnostuneet kirjastolaiset sekä muut kirjastoissa digitukea tarjoavat henkilöt ja toimijat.</p>

<p>Kokoontumiset tarjoavat uutta tietoa aiheeseen vasta tutustuville ja mahdollistavat toiminnan kehittämisen sekä digituen ja medialukutaidon edistämisen ympärille verkostoitumisen ja hyvien käytäntöjen jakamisen myös kokeneille konkareille.</p>

<p>Teams-osallistumislinkin sisältävä kalenterikutsu lähetetään ennen jokaista tilaisuutta myös kehittämisalueemme kirjastojen yleisiin sähköposteihin, josta sitä voi jakaa eteenpäin kirjaston henkilöstölle.</p>

<p><strong>Digituen etätreffeille ei ole ennakkoilmoittautumista, tervetuloa mukaan!</strong></p>

<h2>Lisätietoa</h2>

<p>Pasi Kangas<br />
mediakasvatuskoordinaattori<br />
Lahden kaupunginkirjasto,<br />
alueellinen kehittämistehtävä<br />
pasi.kangas@lahti.fi<br />
044 482&nbsp;6153</p>

LOCATION:Teams
END:VEVENT
END:VCALENDAR