BEGIN:VCALENDAR
VERSION:2.0
PRODID:-//kirjastotfi/procal//NONSGML v1.0//EN
BEGIN:VEVENT
DTSTART:20260428T090000
DTEND:20260428T100000
SUMMARY:Projektkaffe bibliotek
DESCRIPTION:<p>Idén med Projektkaffe är att lyfta fram olika utvecklingsprojekt som genomförts i biblioteken, sprida goda metoder och öka projektens genomslagskraft. På den här träffen får vi höra om två svenskspråkiga läsfrämjande projekt och vilka lärdomar biblioteken själva drar av dem.</p><p>Nykarleby bibliotek berättar om sitt projekt Läshunger och lyssnarglädje, LOL, om läsfrämjande insatser för 9-16-åringar. Projektet utvärderades både med hjälp av elevenkäter, lärarenkäter och diagnostiska tester som utförts i skolorna.&nbsp;</p><p>Esbo stadsbibliotek berättar om samarbetsprojektet Hela Helmet läser, ett läsfrämjande projekt för vuxenbefolkningen i Esbo, Grankulla, Helsingfors och Vanda.</p><h2>Program</h2><p>Kl. 9-9.05</p><p>Välkommen, överinspektör Lena Sundström, Tillstånds- och tillsynsverket</p><p>Kl. 9.05-9.30</p><p>Läshunger och lyssnarglädje, bibliotekschef Nina Granberg och bibliotekspedagog Johanna Häggblom, Nykarleby bibliotek</p><p>Kl. 9.30-9.50</p><p>Hela Helmet läser, planerare Lea Ekblad, Esbo stadsbibliotek. Det andra namnet uppdateras senare.</p><p>Kl. 9.50-10</p><p>Frågor och avrundning</p>
LOCATION:Via Teams
END:VEVENT
END:VCALENDAR